BEGIN:VCALENDAR
VERSION:2.0
PRODID:-//Keystone Agricultural Producers - ECPv6.15.20//NONSGML v1.0//EN
CALSCALE:GREGORIAN
METHOD:PUBLISH
X-WR-CALNAME:Keystone Agricultural Producers
X-ORIGINAL-URL:https://www.kap.ca
X-WR-CALDESC:Events for Keystone Agricultural Producers
REFRESH-INTERVAL;VALUE=DURATION:PT1H
X-Robots-Tag:noindex
X-PUBLISHED-TTL:PT1H
BEGIN:VTIMEZONE
TZID:America/Winnipeg
BEGIN:DAYLIGHT
TZOFFSETFROM:-0600
TZOFFSETTO:-0500
TZNAME:CDT
DTSTART:20250309T080000
END:DAYLIGHT
BEGIN:STANDARD
TZOFFSETFROM:-0500
TZOFFSETTO:-0600
TZNAME:CST
DTSTART:20251102T070000
END:STANDARD
BEGIN:DAYLIGHT
TZOFFSETFROM:-0600
TZOFFSETTO:-0500
TZNAME:CDT
DTSTART:20260308T080000
END:DAYLIGHT
BEGIN:STANDARD
TZOFFSETFROM:-0500
TZOFFSETTO:-0600
TZNAME:CST
DTSTART:20261101T070000
END:STANDARD
BEGIN:DAYLIGHT
TZOFFSETFROM:-0600
TZOFFSETTO:-0500
TZNAME:CDT
DTSTART:20270314T080000
END:DAYLIGHT
BEGIN:STANDARD
TZOFFSETFROM:-0500
TZOFFSETTO:-0600
TZNAME:CST
DTSTART:20271107T070000
END:STANDARD
END:VTIMEZONE
BEGIN:VEVENT
DTSTART;TZID=America/Winnipeg:20260723T110000
DTEND;TZID=America/Winnipeg:20260723T200000
DTSTAMP:20260419T194323
CREATED:20260225T200521Z
LAST-MODIFIED:20260225T200521Z
UID:5145-1784804400-1784836800@www.kap.ca
SUMMARY:2026 Campbell Classic | Golf Tournament
DESCRIPTION:Join us on July 23rd\, 2026\, for our annual Campbell Classic Golf Tournament!  More details coming soon. 
URL:https://www.kap.ca/event/2026-campbell-classic-golf-tournament/
LOCATION:Larters at St. Andrews Golf and Country Club\, 30 River Rd\, Saint Andrews\, Manitoba\, R1A 2V1\, Canada
END:VEVENT
END:VCALENDAR